0.00000000000000
0.10000000000000
0.10000000000000
-0.00000000000000
669884.28562495904000
252810.82468080934000
