-0.08402223838475
-0.03225311545908
-0.03225311545908
0.08402223838475
695356.75932950224000
224039.16238035000000
