-0.06688303429297
0.06022175457230
0.06022175457230
0.06688303429297
695906.79026406503000
228014.97418106027000
