-0.06688303429297
0.06022175457230
0.06022175457230
0.06688303429297
691914.79026406503000
231751.97418106027000
