-0.06688303429297
0.06022175457230
0.06022175457230
0.06688303429297
691514.79026406503000
232131.97418106027000
