-0.08156770083330
0.03803564355666
0.03803564355666
0.08156770083330
695214.67487892194000
233525.73795164208000
