-0.08156770083330
0.03803564355666
0.03803564355666
0.08156770083330
693653.67487892194000
234266.73795164208000
