0.00000000000000
0.09000000000000
0.09000000000000
-0.00000000000000
701729.91708996263000
238879.25670889803000
