0.00000000000000
0.09000000000000
0.09000000000000
-0.00000000000000
701734.91708996263000
240761.25670889803000
