0.00000000000000
0.09000000000000
0.09000000000000
-0.00000000000000
701736.91708996263000
241407.25670889803000
