0.00000000000000
0.09000000000000
0.09000000000000
-0.00000000000000
701714.91708996263000
251624.25670889803000
