-0.00000000000000
-0.09000000000000
-0.09000000000000
0.00000000000000
702395.08291003737000
235123.74329110197000
