-0.00000000000000
-0.09000000000000
-0.09000000000000
0.00000000000000
702367.08291003737000
240884.74329110197000
