-0.00000000000000
-0.09000000000000
-0.09000000000000
0.00000000000000
702382.08291003737000
248789.74329110197000
