0.00000000000000
0.09000000000000
0.09000000000000
-0.00000000000000
699565.30371996330000
231095.97071400509000
