0.00000000000000
0.09000000000000
0.09000000000000
-0.00000000000000
699558.30371996330000
232877.97071400509000
