0.00000000000000
0.09000000000000
0.09000000000000
-0.00000000000000
699545.30371996330000
245385.97071400509000
