0.00000000000000
0.09000000000000
0.09000000000000
-0.00000000000000
699548.30371996330000
246067.97071400509000
