0.00000000000000
0.09000000000000
0.09000000000000
-0.00000000000000
699542.30371996330000
251501.97071400509000
