-0.00000000000000
-0.09000000000000
-0.09000000000000
0.00000000000000
700178.38959503709000
233909.88628854844000
