-0.00000000000000
-0.09000000000000
-0.09000000000000
0.00000000000000
700173.38959503709000
234535.88628854844000
