-0.00000000000000
-0.09000000000000
-0.09000000000000
0.00000000000000
700182.38959503709000
236473.88628854844000
