-0.00000000000000
-0.09000000000000
-0.09000000000000
0.00000000000000
700188.38959503709000
237082.88628854844000
