-0.00000000000000
-0.09000000000000
-0.09000000000000
0.00000000000000
700190.38959503709000
237709.88628854844000
