-0.00000000000000
-0.09000000000000
-0.09000000000000
0.00000000000000
700157.38959503709000
240852.88628854844000
