-0.00000000000000
-0.09000000000000
-0.09000000000000
0.00000000000000
700167.38959503709000
242069.88628854844000
