-0.00000000000000
-0.09000000000000
-0.09000000000000
0.00000000000000
700168.38959503709000
242681.88628854844000
