-0.00000000000000
-0.09000000000000
-0.09000000000000
0.00000000000000
700175.38959503709000
245818.88628854844000
