-0.00000000000000
-0.09000000000000
-0.09000000000000
0.00000000000000
700175.38959503709000
252765.88628854844000
