0.00000000000000
0.09000000000000
0.09000000000000
-0.00000000000000
697372.69034996396000
234911.68471911215000
