0.00000000000000
0.09000000000000
0.09000000000000
-0.00000000000000
697350.69034996396000
245358.68471911215000
