0.00000000000000
0.09000000000000
0.09000000000000
-0.00000000000000
697360.69034996396000
246556.68471911215000
