-0.00000000000000
-0.09000000000000
-0.09000000000000
0.00000000000000
697945.92302003538000
249163.60127578079000
