0.00000000000000
0.09000000000000
0.09000000000000
-0.00000000000000
695187.07697996462000
236259.39872421921000
