0.00000000000000
0.09000000000000
0.09000000000000
-0.00000000000000
695183.07697996462000
236799.39872421921000
