0.00000000000000
0.09000000000000
0.09000000000000
-0.00000000000000
695163.07697996462000
243482.39872421921000
