0.00000000000000
0.09000000000000
0.09000000000000
-0.00000000000000
695173.07697996462000
245331.39872421921000
