0.00000000000000
0.09000000000000
0.09000000000000
-0.00000000000000
695177.07697996462000
246621.39872421921000
