0.00000000000000
0.09000000000000
0.09000000000000
-0.00000000000000
695169.07697996462000
249649.39872421921000
