-0.00000000000000
-0.09000000000000
-0.09000000000000
0.00000000000000
695770.38959503709000
234477.88628854844000
