-0.00000000000000
-0.09000000000000
-0.09000000000000
0.00000000000000
695747.92302003538000
237566.60127578079000
