-0.00000000000000
-0.09000000000000
-0.09000000000000
0.00000000000000
695750.92302003538000
238674.60127578079000
