-0.00000000000000
-0.09000000000000
-0.09000000000000
0.00000000000000
695733.92302003538000
244760.60127578079000
