-0.00000000000000
-0.09000000000000
-0.09000000000000
0.00000000000000
695732.92302003538000
245459.60127578079000
