0.00000000000000
0.09000000000000
0.09000000000000
-0.00000000000000
692855.45051496103000
228184.97169613038000
