0.00000000000000
0.09000000000000
0.09000000000000
-0.00000000000000
692932.69034996396000
236582.68471911215000
