0.00000000000000
0.09000000000000
0.09000000000000
-0.00000000000000
692925.69034996396000
239132.68471911215000
