0.00000000000000
0.09000000000000
0.09000000000000
-0.00000000000000
692928.69034996396000
239592.68471911215000
