0.00000000000000
0.09000000000000
0.09000000000000
-0.00000000000000
692928.69034996396000
240164.68471911215000
