0.00000000000000
0.09000000000000
0.09000000000000
-0.00000000000000
692938.69034996396000
246448.68471911215000
